BEGIN:VCALENDAR
VERSION:2.0
PRODID:-//47th District Democrats - ECPv6.15.20//NONSGML v1.0//EN
CALSCALE:GREGORIAN
METHOD:PUBLISH
X-WR-CALNAME:47th District Democrats
X-ORIGINAL-URL:https://47thdistrictdemocrats.org
X-WR-CALDESC:Events for 47th District Democrats
REFRESH-INTERVAL;VALUE=DURATION:PT1H
X-Robots-Tag:noindex
X-PUBLISHED-TTL:PT1H
BEGIN:VTIMEZONE
TZID:America/Los_Angeles
BEGIN:DAYLIGHT
TZOFFSETFROM:-0800
TZOFFSETTO:-0700
TZNAME:PDT
DTSTART:20180311T100000
END:DAYLIGHT
BEGIN:STANDARD
TZOFFSETFROM:-0700
TZOFFSETTO:-0800
TZNAME:PST
DTSTART:20181104T090000
END:STANDARD
BEGIN:DAYLIGHT
TZOFFSETFROM:-0800
TZOFFSETTO:-0700
TZNAME:PDT
DTSTART:20190310T100000
END:DAYLIGHT
BEGIN:STANDARD
TZOFFSETFROM:-0700
TZOFFSETTO:-0800
TZNAME:PST
DTSTART:20191103T090000
END:STANDARD
BEGIN:DAYLIGHT
TZOFFSETFROM:-0800
TZOFFSETTO:-0700
TZNAME:PDT
DTSTART:20200308T100000
END:DAYLIGHT
BEGIN:STANDARD
TZOFFSETFROM:-0700
TZOFFSETTO:-0800
TZNAME:PST
DTSTART:20201101T090000
END:STANDARD
END:VTIMEZONE
BEGIN:VEVENT
DTSTART;TZID=America/Los_Angeles:20191025T100000
DTEND;TZID=America/Los_Angeles:20191025T120000
DTSTAMP:20260424T040906
CREATED:20190920T061006Z
LAST-MODIFIED:20210109T173040Z
UID:522-1571997600-1572004800@47thdistrictdemocrats.org
SUMMARY:Postcarding for Candidates
DESCRIPTION:Join us to write post cards to voters encouraging them to fill out and return their ballots!  This is an easy way to show your support for our democracy!  We’ll provide the cards and pens.  If you have Sharpies or gel pens\, please feel free to bring them.
URL:https://47thdistrictdemocrats.org/event/postcarding-for-candidates-2/
LOCATION:Bruchelle’s Bagel Bistro\, 16340 SE 256th St\, Covington\, WA\, 98042\, United States
CATEGORIES:Postcarding Events
ORGANIZER;CN="Robin Riveland":MAILTO:b-r@comcast.net
END:VEVENT
BEGIN:VEVENT
DTSTART;TZID=America/Los_Angeles:20191016T100000
DTEND;TZID=America/Los_Angeles:20191016T140000
DTSTAMP:20260424T040906
CREATED:20190920T060829Z
LAST-MODIFIED:20210109T173023Z
UID:520-1571220000-1571234400@47thdistrictdemocrats.org
SUMMARY:Postcarding for Candidates
DESCRIPTION:More info to come.  Contact Robin (b-r (at) comcast.net) for location.
URL:https://47thdistrictdemocrats.org/event/postcarding-for-candidates/
LOCATION:WA
CATEGORIES:Postcarding Events
ORGANIZER;CN="Robin Riveland":MAILTO:b-r@comcast.net
END:VEVENT
END:VCALENDAR