BEGIN:VCALENDAR
VERSION:2.0
PRODID:-//47th District Democrats - ECPv6.15.20//NONSGML v1.0//EN
CALSCALE:GREGORIAN
METHOD:PUBLISH
X-WR-CALNAME:47th District Democrats
X-ORIGINAL-URL:https://47thdistrictdemocrats.org
X-WR-CALDESC:Events for 47th District Democrats
REFRESH-INTERVAL;VALUE=DURATION:PT1H
X-Robots-Tag:noindex
X-PUBLISHED-TTL:PT1H
BEGIN:VTIMEZONE
TZID:America/Los_Angeles
BEGIN:DAYLIGHT
TZOFFSETFROM:-0800
TZOFFSETTO:-0700
TZNAME:PDT
DTSTART:20190310T100000
END:DAYLIGHT
BEGIN:STANDARD
TZOFFSETFROM:-0700
TZOFFSETTO:-0800
TZNAME:PST
DTSTART:20191103T090000
END:STANDARD
BEGIN:DAYLIGHT
TZOFFSETFROM:-0800
TZOFFSETTO:-0700
TZNAME:PDT
DTSTART:20200308T100000
END:DAYLIGHT
BEGIN:STANDARD
TZOFFSETFROM:-0700
TZOFFSETTO:-0800
TZNAME:PST
DTSTART:20201101T090000
END:STANDARD
BEGIN:DAYLIGHT
TZOFFSETFROM:-0800
TZOFFSETTO:-0700
TZNAME:PDT
DTSTART:20210314T100000
END:DAYLIGHT
BEGIN:STANDARD
TZOFFSETFROM:-0700
TZOFFSETTO:-0800
TZNAME:PST
DTSTART:20211107T090000
END:STANDARD
END:VTIMEZONE
BEGIN:VEVENT
DTSTART;TZID=America/Los_Angeles:20201029T170000
DTEND;TZID=America/Los_Angeles:20201029T200000
DTSTAMP:20260423T233351
CREATED:20200910T041346Z
LAST-MODIFIED:20200910T041346Z
UID:889-1603990800-1604001600@47thdistrictdemocrats.org
SUMMARY:47th LD Phone Bank
DESCRIPTION:Join volunteer leaders with the 47th District Democrats to reach out to voters in the 47th Legislative District! Phone bank will take place over Zoom with instructions and follow up to come via email. \nSign up here if you are interested: \nVolunteer
URL:https://47thdistrictdemocrats.org/event/47th-ld-phone-bank-10/
LOCATION:Zoom Event
CATEGORIES:Phone Banking
END:VEVENT
BEGIN:VEVENT
DTSTART;TZID=America/Los_Angeles:20201022T170000
DTEND;TZID=America/Los_Angeles:20201022T200000
DTSTAMP:20260423T233352
CREATED:20200910T041222Z
LAST-MODIFIED:20200910T041222Z
UID:887-1603386000-1603396800@47thdistrictdemocrats.org
SUMMARY:47th LD Phone Bank
DESCRIPTION:Join volunteer leaders with the 47th District Democrats to reach out to voters in the 47th Legislative District! Phone bank will take place over Zoom with instructions and follow up to come via email. \nSign up here if you are interested: \nVolunteer
URL:https://47thdistrictdemocrats.org/event/47th-ld-phone-bank-9/
LOCATION:Zoom Event
CATEGORIES:Phone Banking
END:VEVENT
BEGIN:VEVENT
DTSTART;TZID=America/Los_Angeles:20201015T170000
DTEND;TZID=America/Los_Angeles:20201015T200000
DTSTAMP:20260423T233352
CREATED:20200910T041005Z
LAST-MODIFIED:20200910T041005Z
UID:885-1602781200-1602792000@47thdistrictdemocrats.org
SUMMARY:47th LD Phone Bank
DESCRIPTION:Join volunteer leaders with the 47th District Democrats to reach out to voters in the 47th Legislative District! Phone bank will take place over Zoom with instructions and follow up to come via email. \nSign up here if you are interested: \nVolunteer
URL:https://47thdistrictdemocrats.org/event/47th-ld-phone-bank-8/
LOCATION:Zoom Event
CATEGORIES:Phone Banking
END:VEVENT
BEGIN:VEVENT
DTSTART;TZID=America/Los_Angeles:20201008T170000
DTEND;TZID=America/Los_Angeles:20201008T200000
DTSTAMP:20260423T233352
CREATED:20200910T040755Z
LAST-MODIFIED:20200910T040755Z
UID:883-1602176400-1602187200@47thdistrictdemocrats.org
SUMMARY:47th LD Phone Bank
DESCRIPTION:Join volunteer leaders with the 47th District Democrats to reach out to voters in the 47th Legislative District! Phone bank will take place over Zoom with instructions and follow up to come via email. \nSign up here if you are interested: \nVolunteer
URL:https://47thdistrictdemocrats.org/event/47th-ld-phone-bank-7/
LOCATION:Zoom Event
CATEGORIES:Phone Banking
END:VEVENT
BEGIN:VEVENT
DTSTART;TZID=America/Los_Angeles:20201001T170000
DTEND;TZID=America/Los_Angeles:20201001T200000
DTSTAMP:20260423T233352
CREATED:20200910T040401Z
LAST-MODIFIED:20200910T040401Z
UID:881-1601571600-1601582400@47thdistrictdemocrats.org
SUMMARY:47th LD Phone Bank
DESCRIPTION:Join volunteer leaders with the 47th District Democrats to reach out to voters in the 47th Legislative District! Phone bank will take place over Zoom with instructions and follow up to come via email. \nSign up here if you are interested: \nVolunteer
URL:https://47thdistrictdemocrats.org/event/47th-ld-phone-bank-6/
LOCATION:Zoom Event
CATEGORIES:Phone Banking
END:VEVENT
BEGIN:VEVENT
DTSTART;TZID=America/Los_Angeles:20200924T170000
DTEND;TZID=America/Los_Angeles:20200924T200000
DTSTAMP:20260423T233352
CREATED:20200910T040204Z
LAST-MODIFIED:20200910T040204Z
UID:879-1600966800-1600977600@47thdistrictdemocrats.org
SUMMARY:47th LD Phone Bank
DESCRIPTION:Join volunteer leaders with the 47th District Democrats to reach out to voters in the 47th Legislative District! Phone bank will take place over Zoom with instructions and follow up to come via email. \nSign up here if you are interested: \nVolunteer
URL:https://47thdistrictdemocrats.org/event/47th-ld-phone-bank-5/
LOCATION:Zoom Event
CATEGORIES:Phone Banking
END:VEVENT
BEGIN:VEVENT
DTSTART;TZID=America/Los_Angeles:20200917T170000
DTEND;TZID=America/Los_Angeles:20200917T200000
DTSTAMP:20260423T233352
CREATED:20200910T035920Z
LAST-MODIFIED:20200910T035920Z
UID:877-1600362000-1600372800@47thdistrictdemocrats.org
SUMMARY:47th LD Phone Bank
DESCRIPTION:Join volunteer leaders with the 47th District Democrats to reach out to voters in the 47th Legislative District! Phone bank will take place over Zoom with instructions and follow up to come via email. \nSign up here if you are interested: \nVolunteer
URL:https://47thdistrictdemocrats.org/event/47th-ld-phone-bank-4/
LOCATION:Zoom Event
CATEGORIES:Phone Banking
END:VEVENT
BEGIN:VEVENT
DTSTART;TZID=America/Los_Angeles:20200910T170000
DTEND;TZID=America/Los_Angeles:20200910T200000
DTSTAMP:20260423T233352
CREATED:20200910T035353Z
LAST-MODIFIED:20200910T035353Z
UID:875-1599757200-1599768000@47thdistrictdemocrats.org
SUMMARY:47th LD Phone Bank
DESCRIPTION:https://secure.ngpvan.com/fpyN5JwF70uAZfWh8DMYow2 \nJoin volunteer leaders with the 47th District Democrats to reach out to voters in the 47th Legislative District! Phone bank will take place over Zoom with instructions and follow up to come via email.
URL:https://47thdistrictdemocrats.org/event/47th-ld-phone-bank-3/
LOCATION:Zoom Event
CATEGORIES:Phone Banking
END:VEVENT
BEGIN:VEVENT
DTSTART;TZID=America/Los_Angeles:20200903T170000
DTEND;TZID=America/Los_Angeles:20200903T200000
DTSTAMP:20260423T233352
CREATED:20200823T063741Z
LAST-MODIFIED:20200823T063741Z
UID:853-1599152400-1599163200@47thdistrictdemocrats.org
SUMMARY:47th LD Phone Bank
DESCRIPTION:https://secure.ngpvan.com/NJR2Mxqb8U27VKqWFTIdBA2 \nJoin volunteer leaders with the 47th District Democrats to reach out to voters in the 47th Legislative District! Phone bank will take place over Zoom with instructions and follow up to come via email.
URL:https://47thdistrictdemocrats.org/event/47th-ld-phone-bank-2/
LOCATION:Zoom Event
CATEGORIES:Phone Banking
END:VEVENT
BEGIN:VEVENT
DTSTART;TZID=America/Los_Angeles:20200827T170000
DTEND;TZID=America/Los_Angeles:20200827T200000
DTSTAMP:20260423T233352
CREATED:20200823T063453Z
LAST-MODIFIED:20200823T063453Z
UID:849-1598547600-1598558400@47thdistrictdemocrats.org
SUMMARY:47th LD Phone Bank
DESCRIPTION:https://secure.ngpvan.com/6grfJnhzOU6SG1_f5ajrqQ2 \nJoin volunteer leaders with the 47th District Democrats to reach out to voters in the 47th Legislative District! Phone bank will take place over Zoom with instructions and follow up to come via email.
URL:https://47thdistrictdemocrats.org/event/47th-ld-phone-bank/
LOCATION:Zoom Event
CATEGORIES:Phone Banking
END:VEVENT
END:VCALENDAR