BEGIN:VCALENDAR
VERSION:2.0
PRODID:-//47th District Democrats - ECPv6.15.20//NONSGML v1.0//EN
CALSCALE:GREGORIAN
METHOD:PUBLISH
X-WR-CALNAME:47th District Democrats
X-ORIGINAL-URL:https://47thdistrictdemocrats.org
X-WR-CALDESC:Events for 47th District Democrats
REFRESH-INTERVAL;VALUE=DURATION:PT1H
X-Robots-Tag:noindex
X-PUBLISHED-TTL:PT1H
BEGIN:VTIMEZONE
TZID:America/Los_Angeles
BEGIN:DAYLIGHT
TZOFFSETFROM:-0800
TZOFFSETTO:-0700
TZNAME:PDT
DTSTART:20180311T100000
END:DAYLIGHT
BEGIN:STANDARD
TZOFFSETFROM:-0700
TZOFFSETTO:-0800
TZNAME:PST
DTSTART:20181104T090000
END:STANDARD
BEGIN:DAYLIGHT
TZOFFSETFROM:-0800
TZOFFSETTO:-0700
TZNAME:PDT
DTSTART:20190310T100000
END:DAYLIGHT
BEGIN:STANDARD
TZOFFSETFROM:-0700
TZOFFSETTO:-0800
TZNAME:PST
DTSTART:20191103T090000
END:STANDARD
BEGIN:DAYLIGHT
TZOFFSETFROM:-0800
TZOFFSETTO:-0700
TZNAME:PDT
DTSTART:20200308T100000
END:DAYLIGHT
BEGIN:STANDARD
TZOFFSETFROM:-0700
TZOFFSETTO:-0800
TZNAME:PST
DTSTART:20201101T090000
END:STANDARD
BEGIN:DAYLIGHT
TZOFFSETFROM:-0800
TZOFFSETTO:-0700
TZNAME:PDT
DTSTART:20210314T100000
END:DAYLIGHT
BEGIN:STANDARD
TZOFFSETFROM:-0700
TZOFFSETTO:-0800
TZNAME:PST
DTSTART:20211107T090000
END:STANDARD
BEGIN:DAYLIGHT
TZOFFSETFROM:-0800
TZOFFSETTO:-0700
TZNAME:PDT
DTSTART:20220313T100000
END:DAYLIGHT
BEGIN:STANDARD
TZOFFSETFROM:-0700
TZOFFSETTO:-0800
TZNAME:PST
DTSTART:20221106T090000
END:STANDARD
BEGIN:DAYLIGHT
TZOFFSETFROM:-0800
TZOFFSETTO:-0700
TZNAME:PDT
DTSTART:20230312T100000
END:DAYLIGHT
BEGIN:STANDARD
TZOFFSETFROM:-0700
TZOFFSETTO:-0800
TZNAME:PST
DTSTART:20231105T090000
END:STANDARD
BEGIN:DAYLIGHT
TZOFFSETFROM:-0800
TZOFFSETTO:-0700
TZNAME:PDT
DTSTART:20240310T100000
END:DAYLIGHT
BEGIN:STANDARD
TZOFFSETFROM:-0700
TZOFFSETTO:-0800
TZNAME:PST
DTSTART:20241103T090000
END:STANDARD
BEGIN:DAYLIGHT
TZOFFSETFROM:-0800
TZOFFSETTO:-0700
TZNAME:PDT
DTSTART:20250309T100000
END:DAYLIGHT
BEGIN:STANDARD
TZOFFSETFROM:-0700
TZOFFSETTO:-0800
TZNAME:PST
DTSTART:20251102T090000
END:STANDARD
BEGIN:DAYLIGHT
TZOFFSETFROM:-0800
TZOFFSETTO:-0700
TZNAME:PDT
DTSTART:20260308T100000
END:DAYLIGHT
BEGIN:STANDARD
TZOFFSETFROM:-0700
TZOFFSETTO:-0800
TZNAME:PST
DTSTART:20261101T090000
END:STANDARD
BEGIN:DAYLIGHT
TZOFFSETFROM:-0800
TZOFFSETTO:-0700
TZNAME:PDT
DTSTART:20270314T100000
END:DAYLIGHT
BEGIN:STANDARD
TZOFFSETFROM:-0700
TZOFFSETTO:-0800
TZNAME:PST
DTSTART:20271107T090000
END:STANDARD
END:VTIMEZONE
BEGIN:VEVENT
DTSTART;TZID=America/Los_Angeles:20260401T190000
DTEND;TZID=America/Los_Angeles:20260401T210000
DTSTAMP:20260423T162146
CREATED:20260309T004544Z
LAST-MODIFIED:20260322T073745Z
UID:4050-1775070000-1775077200@47thdistrictdemocrats.org
SUMMARY:April General Membership Meeting
DESCRIPTION:Early Endorsement Candidates \nKim Schrier\, CD8 Representative \nAdam Smith\, CD9 Representative \nClaudia Kauffman\, LD47 State Senator \nDebra Entenman\, LD47 State Representative\, Position No. 1 \nChris Stearns\, LD47 State Representative\, Position No. 2 \nColleen Melody\, State Supreme Court\, Justice Position No. 1 \nIan Birk\, State Supreme Court\, Justice Position No. 4 \nSean O’Donnell\, State Supreme Court\, Justice Position No. 4 \nMatthew York\, King County Southeast Electoral District\, Judge Position No. 2 \nTricia Grove Johnson\, King County Southeast Electoral District\, Judge Position No. 3 \n \n 
URL:https://47thdistrictdemocrats.org/event/april-general-membership-meeting-3/
LOCATION:Auburn Machinists Hall\, 201 A St SW\, Auburn\, WA\, 98001\, United States
CATEGORIES:Monthly District Meeting
ORGANIZER;CN="47th District Democrats":MAILTO:wa47dems@outlook.com
END:VEVENT
BEGIN:VEVENT
DTSTART;TZID=America/Los_Angeles:20260304T190000
DTEND;TZID=America/Los_Angeles:20260304T210000
DTSTAMP:20260423T162146
CREATED:20260302T021234Z
LAST-MODIFIED:20260302T021234Z
UID:4022-1772650800-1772658000@47thdistrictdemocrats.org
SUMMARY:March General Membership Meeting
DESCRIPTION:Join us for our March general membership meeting! \nWe will hear from several candidates\, including King County Assessor candidate Rob Foxcurran. If you would like to attend but cannot join us in person\, please register for our Zoom here: https://us02web.zoom.us/meeting/register/tZwocuugqzkvG9LvtTUZW9bvNZ0ASmw0wI3R#/registration \n 
URL:https://47thdistrictdemocrats.org/event/march-general-membership-meeting-4/
LOCATION:Auburn Machinists Hall\, 201 A St SW\, Auburn\, WA\, 98001\, United States
CATEGORIES:Monthly District Meeting
ORGANIZER;CN="47th District Democrats":MAILTO:wa47dems@outlook.com
END:VEVENT
BEGIN:VEVENT
DTSTART;TZID=America/Los_Angeles:20260204T190000
DTEND;TZID=America/Los_Angeles:20260204T210000
DTSTAMP:20260423T162146
CREATED:20260118T223122Z
LAST-MODIFIED:20260118T223122Z
UID:3870-1770231600-1770238800@47thdistrictdemocrats.org
SUMMARY:February General Membership Meeting
DESCRIPTION:
URL:https://47thdistrictdemocrats.org/event/february-general-membership-meeting-4/
LOCATION:Auburn Machinists Hall\, 201 A St SW\, Auburn\, WA\, 98001\, United States
CATEGORIES:Monthly District Meeting
ORGANIZER;CN="47th District Democrats":MAILTO:wa47dems@outlook.com
END:VEVENT
BEGIN:VEVENT
DTSTART;TZID=America/Los_Angeles:20260107T190000
DTEND;TZID=America/Los_Angeles:20260107T210000
DTSTAMP:20260423T162146
CREATED:20260102T053245Z
LAST-MODIFIED:20260102T053245Z
UID:3711-1767812400-1767819600@47thdistrictdemocrats.org
SUMMARY:January General Membership Meeting
DESCRIPTION:Join us on Wednesday\, January 7th at 7 pm for our general membership meeting.  We meet at the Auburn Machinists Union Hall and on Zoom. \nWe will vote on our Endorsement Rules for 2026 and new Credentialing Rules and elect new district officers (Recording Secretary and Corresponding Secretary).  We will also vote on two resolutions. \nWe look forward to seeing you!
URL:https://47thdistrictdemocrats.org/event/january-general-membership-meeting/
LOCATION:Auburn Machinists Hall\, 201 A St SW\, Auburn\, WA\, 98001\, United States
CATEGORIES:Monthly District Meeting
ORGANIZER;CN="47th District Democrats":MAILTO:wa47dems@outlook.com
END:VEVENT
BEGIN:VEVENT
DTSTART;TZID=America/Los_Angeles:20251203T180000
DTEND;TZID=America/Los_Angeles:20251203T210000
DTSTAMP:20260423T162146
CREATED:20251101T064720Z
LAST-MODIFIED:20251203T080327Z
UID:3307-1764784800-1764795600@47thdistrictdemocrats.org
SUMMARY:Holiday Party
DESCRIPTION:Come join us at the Auburn Machinists Union Hall for a relaxing evening of food\, awards\, and celebrating our victorious candidates at our annual Holiday Party! We will be honoring former Auburn City Councilmember and Washington State Labor Council President Larry Brown with a Legacy Membership.  Dinner and drinks served.  Bring a dish to share if you care to.  See you then!
URL:https://47thdistrictdemocrats.org/event/holiday-party-4/
LOCATION:Auburn Machinists Hall\, 201 A St SW\, Auburn\, WA\, 98001\, United States
CATEGORIES:Just for fun,Monthly District Meeting
ORGANIZER;CN="47th District Democrats":MAILTO:wa47dems@outlook.com
END:VEVENT
BEGIN:VEVENT
DTSTART;TZID=America/Los_Angeles:20251105T190000
DTEND;TZID=America/Los_Angeles:20251105T210000
DTSTAMP:20260423T162146
CREATED:20251101T064113Z
LAST-MODIFIED:20251101T064113Z
UID:3305-1762369200-1762376400@47thdistrictdemocrats.org
SUMMARY:November General Membership Meeting
DESCRIPTION:Join us on Wednesday\, November 5th at 7 pm for our general membership meeting.  We meet at the Auburn Machinists Union Hall and on Zoom. \nCongressman Adam Smith will join us live from Washington\, DC\, and we will have a panel discussion about modern policing with Auburn Police Chief Mark Caillier and Kent Police Chief Rafael Padilla\, led by Seattle Police Officer Patrick Michaud. We will also go over the election results and hear from some of our (hopefully victorious) endorsed candidates. \nWe look forward to seeing you!
URL:https://47thdistrictdemocrats.org/event/november-general-membership-meeting-4/
LOCATION:Auburn Machinists Hall\, 201 A St SW\, Auburn\, WA\, 98001\, United States
CATEGORIES:Monthly District Meeting
ORGANIZER;CN="47th District Democrats":MAILTO:wa47dems@outlook.com
END:VEVENT
BEGIN:VEVENT
DTSTART;TZID=America/Los_Angeles:20251001T190000
DTEND;TZID=America/Los_Angeles:20251001T210000
DTSTAMP:20260423T162146
CREATED:20250927T072445Z
LAST-MODIFIED:20250927T072445Z
UID:3194-1759345200-1759352400@47thdistrictdemocrats.org
SUMMARY:October General Membership Meeting
DESCRIPTION:Join us on Wednesday\, October 1st at 7 pm for our general membership meeting.  We meet at the Auburn Machinists Union Hall and on Zoom. \nWe will hear from Washington State Democratic Party Chair Shasti Conrad and Puget Sound Advocates for Retirement Action.  We will also receive campaign updates from our endorsed candidates and vote on final campaign contributions. \nWe look forward to seeing you!
URL:https://47thdistrictdemocrats.org/event/october-general-membership-meeting-4/
LOCATION:Auburn Machinists Hall\, 201 A St SW\, Auburn\, WA\, 98001\, United States
CATEGORIES:Monthly District Meeting
ORGANIZER;CN="47th District Democrats":MAILTO:wa47dems@outlook.com
END:VEVENT
BEGIN:VEVENT
DTSTART;TZID=America/Los_Angeles:20250903T190000
DTEND;TZID=America/Los_Angeles:20250903T210000
DTSTAMP:20260423T162146
CREATED:20250831T052006Z
LAST-MODIFIED:20250831T052006Z
UID:3100-1756926000-1756933200@47thdistrictdemocrats.org
SUMMARY:September General Membership Meeting
DESCRIPTION:Join us on Wednesday\, September 3rd at 7 pm for our general membership meeting.  We meet at the Auburn Machinists Union Hall and on Zoom. \nWe will hear about several measures on the general election ballot and vote on endorsements and campaign contributions. \nWe look forward to seeing you!
URL:https://47thdistrictdemocrats.org/event/september-general-membership-meeting-4/
LOCATION:Auburn Machinists Hall\, 201 A St SW\, Auburn\, WA\, 98001\, United States
CATEGORIES:Monthly District Meeting
ORGANIZER;CN="47th District Democrats":MAILTO:wa47dems@outlook.com
END:VEVENT
BEGIN:VEVENT
DTSTART;TZID=America/Los_Angeles:20250702T190000
DTEND;TZID=America/Los_Angeles:20250702T210000
DTSTAMP:20260423T162146
CREATED:20250624T080208Z
LAST-MODIFIED:20250624T080208Z
UID:2832-1751482800-1751490000@47thdistrictdemocrats.org
SUMMARY:July General Membership Meeting
DESCRIPTION:Join us on Wednesday\, July 2nd at 7 pm for our general membership meeting.  We meet at the Auburn Machinists Union Hall and on Zoom. \nWe will hear from “Retired” King County Superior Court Judge Matt Williams\, who will discuss and take questions about rule of law in the United States and around the world. We will also hear from a few candidates and vote on campaign contributions to endorsed city council candidates on the August primary ballot. \nWe look forward to seeing you!
URL:https://47thdistrictdemocrats.org/event/july-general-membership-meeting/
LOCATION:Auburn Machinists Hall\, 201 A St SW\, Auburn\, WA\, 98001\, United States
CATEGORIES:Monthly District Meeting
ORGANIZER;CN="47th District Democrats":MAILTO:wa47dems@outlook.com
END:VEVENT
BEGIN:VEVENT
DTSTART;TZID=America/Los_Angeles:20250604T190000
DTEND;TZID=America/Los_Angeles:20250604T220000
DTSTAMP:20260423T162146
CREATED:20250525T185628Z
LAST-MODIFIED:20250525T185628Z
UID:2723-1749063600-1749074400@47thdistrictdemocrats.org
SUMMARY:June General Membership Meeting
DESCRIPTION:Join us on Wednesday\, June 4th at 7 pm for our general membership meeting.  We meet at the Auburn Machinists Union Hall and on Zoom. \nWe will hear from 9th CD Representative Adam Smith and get a recap of the legislative session from State Senator Claudia Kauffman and State Representatives Debra Entenman and Chris Stearns. We will also hear from a few candidates and vote on endorsements. Please note that we anticipate this meeting will run about an hour longer than usual. \nWe look forward to seeing you!
URL:https://47thdistrictdemocrats.org/event/june-general-membership-meeting-3/
LOCATION:Auburn Machinists Hall\, 201 A St SW\, Auburn\, WA\, 98001\, United States
CATEGORIES:Monthly District Meeting
ORGANIZER;CN="47th District Democrats":MAILTO:wa47dems@outlook.com
END:VEVENT
BEGIN:VEVENT
DTSTART;TZID=America/Los_Angeles:20250507T190000
DTEND;TZID=America/Los_Angeles:20250507T210000
DTSTAMP:20260423T162146
CREATED:20250427T070302Z
LAST-MODIFIED:20250427T070302Z
UID:2630-1746644400-1746651600@47thdistrictdemocrats.org
SUMMARY:May General Membership Meeting
DESCRIPTION:Please join us Wednesday\, May 7th at 7 pm for our general membership meeting.  We meet at the Auburn Machinists Union Hall and online at Zoom. \nWe’ll hear from State Treasurer Mike Pellicciotti and first-time candidates seeking our endorsement. \nWe look forward to seeing you!
URL:https://47thdistrictdemocrats.org/event/may-general-membership-meeting-2/
LOCATION:Auburn Machinists Hall\, 201 A St SW\, Auburn\, WA\, 98001\, United States
CATEGORIES:Monthly District Meeting
END:VEVENT
BEGIN:VEVENT
DTSTART;TZID=America/Los_Angeles:20250402T190000
DTEND;TZID=America/Los_Angeles:20250402T210000
DTSTAMP:20260423T162146
CREATED:20250322T194203Z
LAST-MODIFIED:20250322T194203Z
UID:2544-1743620400-1743627600@47thdistrictdemocrats.org
SUMMARY:April General Membership Meeting
DESCRIPTION:Please join us Wednesday\, April 2nd at 7 pm for our general membership meeting.  We meet at the Auburn Machinists Union Hall and online at Zoom. \nWe’ll hear from Kent Mayor Dana Ralph\, then vote on the endorsement of candidates who meet our rules for consideration prior to the filing deadline. \nWe look forward to seeing you!
URL:https://47thdistrictdemocrats.org/event/april-general-membership-meeting-2/
LOCATION:Auburn Machinists Hall\, 201 A St SW\, Auburn\, WA\, 98001\, United States
CATEGORIES:Monthly District Meeting
ORGANIZER;CN="47th District Democrats":MAILTO:wa47dems@outlook.com
END:VEVENT
BEGIN:VEVENT
DTSTART;TZID=America/Los_Angeles:20250305T190000
DTEND;TZID=America/Los_Angeles:20250305T210000
DTSTAMP:20260423T162146
CREATED:20250301T230932Z
LAST-MODIFIED:20250301T230932Z
UID:2511-1741201200-1741208400@47thdistrictdemocrats.org
SUMMARY:March General Membership Meeting
DESCRIPTION:Please join us Wednesday\, March 5th at 7 pm for our general membership meeting.  We meet at the Auburn Machinists Union Hall and online at Zoom. \nWe’ll hear from King County Executive Candidate Claudia Balducci\, Port of Seattle Commissioner Hamdi Mohamed\, candidates for King County Council District 5\, and city councilmembers running for reelection. \nWe look forward to seeing you!
URL:https://47thdistrictdemocrats.org/event/march-general-membership-meeting-3/
LOCATION:Auburn Machinists Hall\, 201 A St SW\, Auburn\, WA\, 98001\, United States
CATEGORIES:Monthly District Meeting
ORGANIZER;CN="47th District Democrats":MAILTO:wa47dems@outlook.com
END:VEVENT
BEGIN:VEVENT
DTSTART;TZID=America/Los_Angeles:20230201T190000
DTEND;TZID=America/Los_Angeles:20230201T210000
DTSTAMP:20260423T162146
CREATED:20230111T042843Z
LAST-MODIFIED:20230121T173051Z
UID:1620-1675278000-1675285200@47thdistrictdemocrats.org
SUMMARY:February General Membership Meeting
DESCRIPTION:Join us for our hybrid February General Membership Meeting online and at the Auburn Machinists Hall. \nTo join by Zoom: \nRegister in advance for this meeting:\nhttps://us02web.zoom.us/meeting/register/tZAtcu6trj8oGNTmlzfyZgmSp4fTa2enuqP0 \nAfter registering\, you will receive a confirmation email containing information about joining the meeting. \n 
URL:https://47thdistrictdemocrats.org/event/february-general-membership-meeting/
LOCATION:Auburn Machinists Hall\, 201 A St SW\, Auburn\, WA\, 98001\, United States
CATEGORIES:Monthly District Meeting
END:VEVENT
BEGIN:VEVENT
DTSTART;TZID=America/Los_Angeles:20210106T190000
DTEND;TZID=America/Los_Angeles:20210106T210000
DTSTAMP:20260423T162146
CREATED:20201224T010026Z
LAST-MODIFIED:20201224T010213Z
UID:1002-1609959600-1609966800@47thdistrictdemocrats.org
SUMMARY:Reorganization Meeting
DESCRIPTION:Agenda: \n\nCall to Order by Temporary Meeting Chair (7:00 pm)\nLand Acknowledgement\nPledge of Allegiance\nAppointment of Temporary Officers\n\nSecretary\nParliamentarian\nSergeant-at-Arms\nTally Chair and Committee\n\n\nCredentials Report of Elected PCOs (7:15 pm)\nAdoption of Agenda and Meeting Rules\nElection of District Chair (who presides from this point on)\n\nAppointment of District Credentials Committee\n\n\nElection of Other District Officers*\n\nFirst Vice-Chair\nState Committee Members (2**)\nKCDCC Representatives (2**)\nKCDCC Alternates (2**)\n\n\nDistrict Credentials Report of Non-PCO Members\nElection of Other District Officers (continued)\n\nSecond Vice-Chair (who assumes role of parliamentarian from this point on) †\nRecording Secretary (who assumes role of meeting secretary from this point on) †\nCorresponding Secretary †\nTreasurer †\nNewsletter Editor †\n\n\nAppointment of District Officers to Chair Standing Committees\n\nMembership Chair\nOutreach Chair\nCommunications Chair\n\n\nAppointment of Additional Officers and Committee Chairs\n\nDistrict Sergeant-at-Arms\nTechnology Chair\nHospitality Chair (may be tabled until February meeting)\nAd-Hoc Committee Chairs (may be tabled until February meeting)\n\n\nAppointment of Bylaws Committee\nApproval of PCO Applications (if any)\nOld Business\n\nApproval of Audit Committee Report\n\n\nNew Business\nGood of the Order\nAdjournment\n\nGuest Speakers may be introduced and/or allowed speaking privileges at the discretion of the Temporary Meeting Chair or newly elected District Chair \n* List of officers to elect is based on current bylaws \n** Must be of different genders \n† Non-PCO members may vote on this position
URL:https://47thdistrictdemocrats.org/event/reorganization-meeting/
LOCATION:Online Event
CATEGORIES:Monthly District Meeting
ORGANIZER;CN="47th District Democrats":MAILTO:wa47dems@outlook.com
END:VEVENT
BEGIN:VEVENT
DTSTART;TZID=America/Los_Angeles:20201202T190000
DTEND;TZID=America/Los_Angeles:20201202T210000
DTSTAMP:20260423T162146
CREATED:20201112T074640Z
LAST-MODIFIED:20210109T172722Z
UID:994-1606935600-1606942800@47thdistrictdemocrats.org
SUMMARY:Virtual Holiday Party
DESCRIPTION:Join meeting \n\nWe are busy planning for our Annual Holiday Party happening virtually on December 2 starting at 7pm.\n\n\nHere is some of what you can look forward to when you attend:\n\n\nA Party Package will be delivered to you before the event filled with goodies!*\n\n\nA contest and prizes for Most Festive Outfit and Most Festive Background!\n\n\nSpeakers from our LD and beyond!\n\n\nMake sure to RSVP on the Event page on Facebook:  https://www.facebook.com/events/375525623664112/.\nWe want to see you!\n\n\n* with dues payment:  https://secure.actblue.com/donate/47th-district-democrats-1
URL:https://47thdistrictdemocrats.org/event/virtual-holiday-party/
LOCATION:Online Event
CATEGORIES:Monthly District Meeting
ORGANIZER;CN="Robin Riveland":MAILTO:b-r@comcast.net
END:VEVENT
BEGIN:VEVENT
DTSTART;TZID=America/Los_Angeles:20201104T190000
DTEND;TZID=America/Los_Angeles:20201104T210000
DTSTAMP:20260423T162146
CREATED:20200727T051803Z
LAST-MODIFIED:20200727T051803Z
UID:827-1604516400-1604523600@47thdistrictdemocrats.org
SUMMARY:November District Meeting
DESCRIPTION:
URL:https://47thdistrictdemocrats.org/event/november-district-meeting/
LOCATION:WA
CATEGORIES:Monthly District Meeting
END:VEVENT
BEGIN:VEVENT
DTSTART;TZID=America/Los_Angeles:20201007T194500
DTEND;TZID=America/Los_Angeles:20201007T210000
DTSTAMP:20260423T162146
CREATED:20200727T051629Z
LAST-MODIFIED:20201006T070103Z
UID:825-1602099900-1602104400@47thdistrictdemocrats.org
SUMMARY:October District Meeting
DESCRIPTION:Join meeting
URL:https://47thdistrictdemocrats.org/event/october-district-meeting/
LOCATION:WA
CATEGORIES:Monthly District Meeting
END:VEVENT
BEGIN:VEVENT
DTSTART;TZID=America/Los_Angeles:20200902T190000
DTEND;TZID=America/Los_Angeles:20200902T210000
DTSTAMP:20260423T162146
CREATED:20200727T051524Z
LAST-MODIFIED:20200727T051524Z
UID:823-1599073200-1599080400@47thdistrictdemocrats.org
SUMMARY:September District Endorsements Meeting
DESCRIPTION:
URL:https://47thdistrictdemocrats.org/event/september-district-endorsements-meeting/
LOCATION:WA
CATEGORIES:Monthly District Meeting
END:VEVENT
BEGIN:VEVENT
DTSTART;TZID=America/Los_Angeles:20200805T190000
DTEND;TZID=America/Los_Angeles:20200805T210000
DTSTAMP:20260423T162146
CREATED:20200727T042930Z
LAST-MODIFIED:20200727T042930Z
UID:817-1596654000-1596661200@47thdistrictdemocrats.org
SUMMARY:August District Meeting
DESCRIPTION:Join meeting
URL:https://47thdistrictdemocrats.org/event/august-district-meeting/
LOCATION:WA
CATEGORIES:Monthly District Meeting
END:VEVENT
BEGIN:VEVENT
DTSTART;TZID=America/Los_Angeles:20200701T190000
DTEND;TZID=America/Los_Angeles:20200701T210000
DTSTAMP:20260423T162146
CREATED:20200429T065236Z
LAST-MODIFIED:20200628T062818Z
UID:726-1593630000-1593637200@47thdistrictdemocrats.org
SUMMARY:July District Meeting
DESCRIPTION:Join meeting
URL:https://47thdistrictdemocrats.org/event/july-district-meeting/
LOCATION:WA
CATEGORIES:Monthly District Meeting
END:VEVENT
BEGIN:VEVENT
DTSTART;TZID=America/Los_Angeles:20200603T190000
DTEND;TZID=America/Los_Angeles:20200603T210000
DTSTAMP:20260423T162146
CREATED:20200429T065119Z
LAST-MODIFIED:20200601T053837Z
UID:724-1591210800-1591218000@47thdistrictdemocrats.org
SUMMARY:June District Endorsements Meeting
DESCRIPTION:Join meeting
URL:https://47thdistrictdemocrats.org/event/june-district-endorsements-meeting/
LOCATION:WA
CATEGORIES:Monthly District Meeting
END:VEVENT
BEGIN:VEVENT
DTSTART;TZID=America/Los_Angeles:20200506T190000
DTEND;TZID=America/Los_Angeles:20200506T210000
DTSTAMP:20260423T162146
CREATED:20200429T064948Z
LAST-MODIFIED:20200429T064948Z
UID:722-1588791600-1588798800@47thdistrictdemocrats.org
SUMMARY:May District Meeting
DESCRIPTION:Join meeting
URL:https://47thdistrictdemocrats.org/event/may-district-meeting/
LOCATION:WA
CATEGORIES:Monthly District Meeting
END:VEVENT
BEGIN:VEVENT
DTSTART;TZID=America/Los_Angeles:20200401T190000
DTEND;TZID=America/Los_Angeles:20200401T210000
DTSTAMP:20260423T162146
CREATED:20191113T080324Z
LAST-MODIFIED:20200331T053437Z
UID:594-1585767600-1585774800@47thdistrictdemocrats.org
SUMMARY:April District Meeting
DESCRIPTION:Join meeting
URL:https://47thdistrictdemocrats.org/event/april-district-meeting/
LOCATION:WA\, United States
CATEGORIES:Monthly District Meeting
END:VEVENT
BEGIN:VEVENT
DTSTART;TZID=America/Los_Angeles:20200304T190000
DTEND;TZID=America/Los_Angeles:20200304T210000
DTSTAMP:20260423T162146
CREATED:20191113T080220Z
LAST-MODIFIED:20191113T080220Z
UID:592-1583348400-1583355600@47thdistrictdemocrats.org
SUMMARY:March District Meeting
DESCRIPTION:
URL:https://47thdistrictdemocrats.org/event/march-district-meeting/
LOCATION:Auburn Machinists Hall\, 201 A St SW\, Auburn\, WA\, 98001\, United States
CATEGORIES:Monthly District Meeting
END:VEVENT
BEGIN:VEVENT
DTSTART;TZID=America/Los_Angeles:20200205T190000
DTEND;TZID=America/Los_Angeles:20200205T210000
DTSTAMP:20260423T162146
CREATED:20191113T080103Z
LAST-MODIFIED:20191113T080103Z
UID:590-1580929200-1580936400@47thdistrictdemocrats.org
SUMMARY:February District Meeting
DESCRIPTION:
URL:https://47thdistrictdemocrats.org/event/february-district-meeting/
LOCATION:Auburn Machinists Hall\, 201 A St SW\, Auburn\, WA\, 98001\, United States
CATEGORIES:Monthly District Meeting
END:VEVENT
BEGIN:VEVENT
DTSTART;TZID=America/Los_Angeles:20200108T190000
DTEND;TZID=America/Los_Angeles:20200108T210000
DTSTAMP:20260423T162146
CREATED:20191113T075303Z
LAST-MODIFIED:20191113T075303Z
UID:588-1578510000-1578517200@47thdistrictdemocrats.org
SUMMARY:January District Meeting
DESCRIPTION:
URL:https://47thdistrictdemocrats.org/event/january-district-meeting/
LOCATION:Auburn Machinists Hall\, 201 A St SW\, Auburn\, WA\, 98001\, United States
CATEGORIES:Monthly District Meeting
END:VEVENT
BEGIN:VEVENT
DTSTART;TZID=America/Los_Angeles:20191204T183000
DTEND;TZID=America/Los_Angeles:20191204T203000
DTSTAMP:20260423T162146
CREATED:20191023T061453Z
LAST-MODIFIED:20191113T075957Z
UID:564-1575484200-1575491400@47thdistrictdemocrats.org
SUMMARY:Holiday Potluck
DESCRIPTION:
URL:https://47thdistrictdemocrats.org/event/holiday-potluck/
LOCATION:Auburn Machinists Hall\, 201 A St SW\, Auburn\, WA\, 98001\, United States
CATEGORIES:Monthly District Meeting
END:VEVENT
BEGIN:VEVENT
DTSTART;TZID=America/Los_Angeles:20191106T190000
DTEND;TZID=America/Los_Angeles:20191106T210000
DTSTAMP:20260423T162146
CREATED:20190620T033238Z
LAST-MODIFIED:20190624T010226Z
UID:236-1573066800-1573074000@47thdistrictdemocrats.org
SUMMARY:November District Meeting
DESCRIPTION:
URL:https://47thdistrictdemocrats.org/event/district-meeting-6/
LOCATION:Auburn Machinists Hall\, 201 A St SW\, Auburn\, WA\, 98001\, United States
CATEGORIES:Monthly District Meeting
END:VEVENT
BEGIN:VEVENT
DTSTART;TZID=America/Los_Angeles:20191002T190000
DTEND;TZID=America/Los_Angeles:20191002T210000
DTSTAMP:20260423T162146
CREATED:20190620T033146Z
LAST-MODIFIED:20190624T010253Z
UID:234-1570042800-1570050000@47thdistrictdemocrats.org
SUMMARY:October District Meeting
DESCRIPTION:
URL:https://47thdistrictdemocrats.org/event/district-meeting-5/
LOCATION:Auburn Machinists Hall\, 201 A St SW\, Auburn\, WA\, 98001\, United States
CATEGORIES:Monthly District Meeting
END:VEVENT
END:VCALENDAR