BEGIN:VCALENDAR
VERSION:2.0
PRODID:-//47th District Democrats - ECPv6.15.20//NONSGML v1.0//EN
CALSCALE:GREGORIAN
METHOD:PUBLISH
X-ORIGINAL-URL:https://47thdistrictdemocrats.org
X-WR-CALDESC:Events for 47th District Democrats
REFRESH-INTERVAL;VALUE=DURATION:PT1H
X-Robots-Tag:noindex
X-PUBLISHED-TTL:PT1H
BEGIN:VTIMEZONE
TZID:America/Los_Angeles
BEGIN:DAYLIGHT
TZOFFSETFROM:-0800
TZOFFSETTO:-0700
TZNAME:PDT
DTSTART:20200308T100000
END:DAYLIGHT
BEGIN:STANDARD
TZOFFSETFROM:-0700
TZOFFSETTO:-0800
TZNAME:PST
DTSTART:20201101T090000
END:STANDARD
BEGIN:DAYLIGHT
TZOFFSETFROM:-0800
TZOFFSETTO:-0700
TZNAME:PDT
DTSTART:20210314T100000
END:DAYLIGHT
BEGIN:STANDARD
TZOFFSETFROM:-0700
TZOFFSETTO:-0800
TZNAME:PST
DTSTART:20211107T090000
END:STANDARD
BEGIN:DAYLIGHT
TZOFFSETFROM:-0800
TZOFFSETTO:-0700
TZNAME:PDT
DTSTART:20220313T100000
END:DAYLIGHT
BEGIN:STANDARD
TZOFFSETFROM:-0700
TZOFFSETTO:-0800
TZNAME:PST
DTSTART:20221106T090000
END:STANDARD
BEGIN:DAYLIGHT
TZOFFSETFROM:-0800
TZOFFSETTO:-0700
TZNAME:PDT
DTSTART:20230312T100000
END:DAYLIGHT
BEGIN:STANDARD
TZOFFSETFROM:-0700
TZOFFSETTO:-0800
TZNAME:PST
DTSTART:20231105T090000
END:STANDARD
BEGIN:DAYLIGHT
TZOFFSETFROM:-0800
TZOFFSETTO:-0700
TZNAME:PDT
DTSTART:20240310T100000
END:DAYLIGHT
BEGIN:STANDARD
TZOFFSETFROM:-0700
TZOFFSETTO:-0800
TZNAME:PST
DTSTART:20241103T090000
END:STANDARD
BEGIN:DAYLIGHT
TZOFFSETFROM:-0800
TZOFFSETTO:-0700
TZNAME:PDT
DTSTART:20250309T100000
END:DAYLIGHT
BEGIN:STANDARD
TZOFFSETFROM:-0700
TZOFFSETTO:-0800
TZNAME:PST
DTSTART:20251102T090000
END:STANDARD
BEGIN:DAYLIGHT
TZOFFSETFROM:-0800
TZOFFSETTO:-0700
TZNAME:PDT
DTSTART:20260308T100000
END:DAYLIGHT
BEGIN:STANDARD
TZOFFSETFROM:-0700
TZOFFSETTO:-0800
TZNAME:PST
DTSTART:20261101T090000
END:STANDARD
END:VTIMEZONE
BEGIN:VEVENT
DTSTART;TZID=America/Los_Angeles:20251203T180000
DTEND;TZID=America/Los_Angeles:20251203T210000
DTSTAMP:20260423T193907
CREATED:20251101T064720Z
LAST-MODIFIED:20251203T080327Z
UID:3307-1764784800-1764795600@47thdistrictdemocrats.org
SUMMARY:Holiday Party
DESCRIPTION:Come join us at the Auburn Machinists Union Hall for a relaxing evening of food\, awards\, and celebrating our victorious candidates at our annual Holiday Party! We will be honoring former Auburn City Councilmember and Washington State Labor Council President Larry Brown with a Legacy Membership.  Dinner and drinks served.  Bring a dish to share if you care to.  See you then!
URL:https://47thdistrictdemocrats.org/event/holiday-party-4/
LOCATION:Auburn Machinists Hall\, 201 A St SW\, Auburn\, WA\, 98001\, United States
CATEGORIES:Just for fun,Monthly District Meeting
ORGANIZER;CN="47th District Democrats":MAILTO:wa47dems@outlook.com
END:VEVENT
BEGIN:VEVENT
DTSTART;TZID=America/Los_Angeles:20250806T180000
DTEND;TZID=America/Los_Angeles:20250806T203000
DTSTAMP:20260423T193907
CREATED:20250624T080540Z
LAST-MODIFIED:20250624T080540Z
UID:2835-1754503200-1754512200@47thdistrictdemocrats.org
SUMMARY:Annual Summer BBQ!
DESCRIPTION:Join us for our Annual Summer BBQ at Sunset Park in Auburn! We will provide burgers and hot dogs\, soft drinks and all the condiments. Bring a side dish to share if you can and invite your friends. We look forward to seeing you!
URL:https://47thdistrictdemocrats.org/event/annual-summer-bbq-2/
LOCATION:Sunset Park\, 1420 69th St. SE\, Auburn\, 98001\, United States
CATEGORIES:Just for fun
ORGANIZER;CN="47th District Democrats":MAILTO:wa47dems@outlook.com
END:VEVENT
BEGIN:VEVENT
DTSTART;TZID=America/Los_Angeles:20210426T190000
DTEND;TZID=America/Los_Angeles:20210426T200000
DTSTAMP:20260423T193907
CREATED:20210407T181050Z
LAST-MODIFIED:20210407T181218Z
UID:1143-1619463600-1619467200@47thdistrictdemocrats.org
SUMMARY:Bingo Night!
DESCRIPTION:Join us for a virtual Bingo Night!  Monday\, April 26\, 2021 at 7:00 PM PDT\, on Webex. \nClick Here to join when the meeting starts. \nWe look forward to see you online at the event!
URL:https://47thdistrictdemocrats.org/event/bingo-night-2021-04/
LOCATION:WA
CATEGORIES:Just for fun
ATTACH;FMTTYPE=image/png:https://47thdistrictdemocrats.org/wp-content/uploads/2021/04/Bingo_2021_4_26.png
ORGANIZER;CN="47th District Democrats":MAILTO:wa47dems@outlook.com
END:VEVENT
END:VCALENDAR